BEGIN:VCALENDAR
VERSION:2.0
PRODID:-//eventon.com NONSGML v1.0//EN
BEGIN:VEVENT
UID:69e886e93d382
DTSTAMP:20260422T032929
DTSTART:20190928T150000Z
DTEND:20190929T040000Z
LOCATION:
SUMMARY:Theater Off the Square
DESCRIPTION: Theater Off the Square
END:VEVENT
END:VCALENDAR