BEGIN:VCALENDAR
VERSION:2.0
PRODID:-//eventon.com NONSGML v1.0//EN
BEGIN:VEVENT
UID:69e886e8ea5d4
DTSTAMP:20260422T032928
DTSTART:20190913T230000Z
DTEND:20190914T010000Z
LOCATION:Akard Hall 301 S Main St
SUMMARY:Emmaus Gathering
DESCRIPTION: Emmaus Gathering
END:VEVENT
END:VCALENDAR