BEGIN:VCALENDAR
VERSION:2.0
PRODID:-//eventon.com NONSGML v1.0//EN
BEGIN:VEVENT
UID:69e8872c22f1c
DTSTAMP:20260422T033036
DTSTART:20190916T233000Z
DTEND:20190917T003000Z
LOCATION:Questor 
SUMMARY:Fall Festival Planning Meeting
DESCRIPTION: Fall Festival Planning Meeting
END:VEVENT
END:VCALENDAR