BEGIN:VCALENDAR
VERSION:2.0
PRODID:-//eventon.com NONSGML v1.0//EN
BEGIN:VEVENT
UID:69e88716c4c3f
DTSTAMP:20260422T033014
DTSTART:20190909T153000Z
DTEND:20190909T163000Z
LOCATION:Keystone\,  CO 80435 
SUMMARY:Ukaladies
DESCRIPTION: Ukaladies
END:VEVENT
END:VCALENDAR