BEGIN:VCALENDAR
VERSION:2.0
PRODID:-//eventon.com NONSGML v1.0//EN
BEGIN:VEVENT
UID:69ed2a3481cfd
DTSTAMP:20260425T155516
DTSTART:20270614T230000Z
DTEND:20270615T000000Z
LOCATION:Keystone\,  CO 80435 
SUMMARY:Troop 4822 Girl Scouts
DESCRIPTION: Troop 4822 Girl Scouts
END:VEVENT
END:VCALENDAR