BEGIN:VCALENDAR
VERSION:2.0
PRODID:-//eventon.com NONSGML v1.0//EN
BEGIN:VEVENT
UID:69ecb88babe37
DTSTAMP:20260425T075019
DTSTART:20270405T230000Z
DTEND:20270406T000000Z
LOCATION:Keystone\,  CO 80435 
SUMMARY:Troop 4822 Girl Scouts
DESCRIPTION: Troop 4822 Girl Scouts
END:VEVENT
END:VCALENDAR