BEGIN:VCALENDAR
VERSION:2.0
PRODID:-//eventon.com NONSGML v1.0//EN
BEGIN:VEVENT
UID:69ec9d655b648
DTSTAMP:20260425T055429
DTSTART:20270322T230000Z
DTEND:20270323T000000Z
LOCATION:Keystone\,  CO 80435 
SUMMARY:Troop 4822 Girl Scouts
DESCRIPTION: Troop 4822 Girl Scouts
END:VEVENT
END:VCALENDAR