BEGIN:VCALENDAR
VERSION:2.0
PRODID:-//eventon.com NONSGML v1.0//EN
BEGIN:VEVENT
UID:69e9677340d0e
DTSTAMP:20260422T192731
DTSTART:20261228T230000Z
DTEND:20261229T000000Z
LOCATION:Keystone\,  CO 80435 
SUMMARY:Troop 4822 Girl Scouts
DESCRIPTION: Troop 4822 Girl Scouts
END:VEVENT
END:VCALENDAR