BEGIN:VCALENDAR
VERSION:2.0
PRODID:-//eventon.com NONSGML v1.0//EN
BEGIN:VEVENT
UID:69e94e7716ffb
DTSTAMP:20260422T174055
DTSTART:20261214T230000Z
DTEND:20261215T000000Z
LOCATION:Keystone\,  CO 80435 
SUMMARY:Troop 4822 Girl Scouts
DESCRIPTION: Troop 4822 Girl Scouts
END:VEVENT
END:VCALENDAR