BEGIN:VCALENDAR
VERSION:2.0
PRODID:-//eventon.com NONSGML v1.0//EN
BEGIN:VEVENT
UID:69e9064ec5014
DTSTAMP:20260422T123302
DTSTART:20191013T160000Z
DTEND:20191013T170000Z
LOCATION:Red House 301 S Main St
SUMMARY:Sunday School
DESCRIPTION: Sunday School
END:VEVENT
END:VCALENDAR