BEGIN:VCALENDAR
VERSION:2.0
PRODID:-//eventon.com NONSGML v1.0//EN
BEGIN:VEVENT
UID:69e8f09a38afd
DTSTAMP:20260422T110026
DTSTART:20191006T160000Z
DTEND:20191006T170000Z
LOCATION:Red House 301 S Main St
SUMMARY:Sunday School
DESCRIPTION: Sunday School
END:VEVENT
END:VCALENDAR