BEGIN:VCALENDAR
VERSION:2.0
PRODID:-//eventon.com NONSGML v1.0//EN
BEGIN:VEVENT
UID:69ed41be9268c
DTSTAMP:20260425T173542
DTSTART:20200216T160000Z
DTEND:20200216T170000Z
LOCATION:Red House 301 S Main St
SUMMARY:Sunday School
DESCRIPTION: Sunday School
END:VEVENT
END:VCALENDAR