BEGIN:VCALENDAR
VERSION:2.0
PRODID:-//eventon.com NONSGML v1.0//EN
BEGIN:VEVENT
UID:69ed16096263b
DTSTAMP:20260425T142913
DTSTART:20200202T160000Z
DTEND:20200202T170000Z
LOCATION:Red House 301 S Main St
SUMMARY:Sunday School
DESCRIPTION: Sunday School
END:VEVENT
END:VCALENDAR