BEGIN:VCALENDAR
VERSION:2.0
PRODID:-//eventon.com NONSGML v1.0//EN
BEGIN:VEVENT
UID:69e886e918396
DTSTAMP:20260422T032929
DTSTART:20190901T160000Z
DTEND:20190901T170000Z
LOCATION:Red House 301 S Main St
SUMMARY:Sunday School
DESCRIPTION: Sunday School
END:VEVENT
END:VCALENDAR