BEGIN:VCALENDAR
VERSION:2.0
PRODID:-//eventon.com NONSGML v1.0//EN
BEGIN:VEVENT
UID:69e92f1209a4f
DTSTAMP:20260422T152658
DTSTART:20260918T140000Z
DTEND:20260918T170000Z
LOCATION:Sanctuary 301 S. Main
SUMMARY:Weight Watchers
DESCRIPTION: Weight Watchers
END:VEVENT
END:VCALENDAR