BEGIN:VCALENDAR
VERSION:2.0
PRODID:-//eventon.com NONSGML v1.0//EN
BEGIN:VEVENT
UID:69e8eee534cdd
DTSTAMP:20260422T105309
DTSTART:20260909T140000Z
DTEND:20260909T170000Z
LOCATION:Sanctuary 301 S. Main
SUMMARY:Weight Watchers
DESCRIPTION: Weight Watchers
END:VEVENT
END:VCALENDAR