BEGIN:VCALENDAR
VERSION:2.0
PRODID:-//eventon.com NONSGML v1.0//EN
BEGIN:VEVENT
UID:69e89d528193a
DTSTAMP:20260422T050506
DTSTART:20260828T140000Z
DTEND:20260828T170000Z
LOCATION:Sanctuary 301 S. Main
SUMMARY:Weight Watchers
DESCRIPTION: Weight Watchers
END:VEVENT
END:VCALENDAR