BEGIN:VCALENDAR
VERSION:2.0
PRODID:-//eventon.com NONSGML v1.0//EN
BEGIN:VEVENT
UID:69e89e7cb0e2f
DTSTAMP:20260422T051004
DTSTART:20260812T140000Z
DTEND:20260812T170000Z
LOCATION:Sanctuary 301 S. Main
SUMMARY:Weight Watchers
DESCRIPTION: Weight Watchers
END:VEVENT
END:VCALENDAR