BEGIN:VCALENDAR
VERSION:2.0
PRODID:-//eventon.com NONSGML v1.0//EN
BEGIN:VEVENT
UID:69e88c64451e2
DTSTAMP:20260422T035252
DTSTART:20260424T140000Z
DTEND:20260424T170000Z
LOCATION:Sanctuary 301 S. Main
SUMMARY:Weight Watchers
DESCRIPTION: Weight Watchers
END:VEVENT
END:VCALENDAR