BEGIN:VCALENDAR
VERSION:2.0
PRODID:-//eventon.com NONSGML v1.0//EN
BEGIN:VEVENT
UID:69ece087d9a30
DTSTAMP:20260425T104055
DTSTART:20261231T231500Z
DTEND:20270101T001500Z
LOCATION:Sanctuary 301 S. Main
SUMMARY:Praise Team Rehearsal
DESCRIPTION: Praise Team Rehearsal
END:VEVENT
END:VCALENDAR